BEGIN:VCALENDAR
VERSION:2.0
PRODID:icalendar-ruby
CALSCALE:GREGORIAN
METHOD:PUBLISH
BEGIN:VEVENT
DTSTAMP:20260420T131530Z
UID:46-130772@eastbartlesville.tithelysetup5.com
DTSTART:20260620T170000Z
DTEND:20260620T180000Z
CLASS:PUBLIC
CREATED:20260409T155205
DESCRIPTION:On June 20th\, we’re heading out for an unforgettable experie
 nce packed with nonstop fun\, real friendships\, and powerful moments with
  God. Whether you’re dominating on the basketball courts\, battling it o
 ut in gaga ball\, lining up the perfect shot on mini golf\, or flying thro
 ugh the air on the zip line\, there’s never a dull moment.\nBut it’s n
 ot just about the games—every day we’ll come together for high-energy 
 worship and meaningful messages that will challenge you\, grow your faith\
 , and help you connect with God in a real way.\nThis is more than just a c
 amp… it’s a place to unplug\, go all-in\, and make memories you’ll b
 e talking about all year.
LAST-MODIFIED:20260409T155205
LOCATION:Hidden Haven Christian Camp
SUMMARY:K-Day Camp
URL;VALUE=URI:https://pathwaycc.church/events/k-day-camp--46/2026-06-20
ATTACH;FILENAME=Breeze-Header-Presentation-1.jpg;FMTTYPE=image/jpeg:https:/
 /dq5pwpg1q8ru0.cloudfront.net/2026/04/09/22/52/05/000a516c-5304-41a7-a159-
 fcec375807b1/Breeze-Header-Presentation-1.jpg
END:VEVENT
END:VCALENDAR
